BEGIN:VCALENDAR
VERSION:2.0
PRODID:-//ChamberMaster//Event Calendar 2.0//EN
METHOD:PUBLISH
X-PUBLISHED-TTL:P3D
REFRESH-INTERVAL:P3D
CALSCALE:GREGORIAN
BEGIN:VEVENT
DTSTART:20260630T150000Z
DTEND:20260630T170000Z
X-MICROSOFT-CDO-ALLDAYEVENT:FALSE
SUMMARY:Estate Planning & Asset Protection Seminar
DESCRIPTION:Estate Planning & Asset Protection Seminar\n\nLegacy Learning Center\n\n24052 Smiley Road\, Nisswa\, MN 56468 (lower level).   \n\n\n\nEvent Highlights Include:\n\nWills & LIving Trusts\, Asset Protection\n\nProbate\n\nEstate Taxes\n\nLong-Term Care Planning\n\nFarm Succession Planning\n\nGifting to Children\n\nSpecial Needs\n\n\n\nOther dates and times:\n\n\n\nTuesday\, May 12\,  6:30pm\n\nThursday\, May 14\, 10am or 6:30pm\n\nSaturday\, May 16\, 10am\n\nTuesday\, May 19\, 10am or 6:30pm\n\nThursday\, May 21\, 10am or 6:30pm\n\nTuesday\, June 9\, 10am or 6:30pm\n\nThursday\, June 11 10an or 6:30pm\n\nSaturday\, June 13\, 10am\n\nPlease RSVP: \n\n800-898-3572 (code 503622)\n\nor RSVP.org/503622
X-ALT-DESC;FMTTYPE=text/html:Estate Planning &amp\; Asset Protection Seminar<br>\nLegacy Learning Center<br>\n24052 Smiley Road\, Nisswa\, MN 56468 (lower level).&nbsp\; &nbsp\;<br>\n<br>\nEvent Highlights Include:<br>\nWills &amp\; LIving Trusts\, Asset Protection<br>\nProbate<br>\nEstate Taxes<br>\nLong-Term Care Planning<br>\nFarm Succession Planning<br>\nGifting to Children<br>\nSpecial Needs<br>\n<br>\n<u><strong>Other dates and times:</strong></u><br>\n<br>\nTuesday\, May 12\,&nbsp\; 6:30pm<br>\nThursday\, May 14\, 10am or 6:30pm<br>\nSaturday\, May 16\, 10am<br>\nTuesday\, May 19\, 10am or 6:30pm<br>\nThursday\, May 21\, 10am or 6:30pm<br>\nTuesday\, June 9\, 10am or 6:30pm<br>\nThursday\, June 11 10an or 6:30pm<br>\nSaturday\, June 13\, 10am<br>\nPlease RSVP:&nbsp\;<br>\n800-898-3572 (code 503622)<br>\nor RSVP.org/503622<br>\n&nbsp\;
LOCATION:Nisswa Legacy Learning Center 24052 Smiley Road Nisswa\, MN
UID:e.34.55480
SEQUENCE:3
DTSTAMP:20260421T190732Z
URL:https://business.nisswa.com/events/details/estate-planning-asset-protection-seminar-06-30-2026-55480
END:VEVENT

END:VCALENDAR
