BEGIN:VCALENDAR
VERSION:2.0
PRODID:-//ChamberMaster//Event Calendar 2.0//EN
METHOD:PUBLISH
X-PUBLISHED-TTL:P3D
REFRESH-INTERVAL:P3D
CALSCALE:GREGORIAN
BEGIN:VEVENT
DTSTART:20201119T223000Z
DTEND:20201120T013000Z
X-MICROSOFT-CDO-ALLDAYEVENT:FALSE
SUMMARY:Watson's Wings Night - Every Thursday Evening at the Nisswa Legion
DESCRIPTION:
X-ALT-DESC;FMTTYPE=text/html:
LOCATION:
UID:e.34.16635
SEQUENCE:3
DTSTAMP:20260420T111128Z
URL:https://business.nisswa.com/events/details/watson-s-wings-night-every-thursday-evening-at-the-nisswa-legion-11-19-2020-16635
END:VEVENT

END:VCALENDAR
